BEGIN:VCALENDAR
VERSION:2.0
PRODID:-//wp-events-plugin.com//7.2.3.1//EN
TZID:America/New_York
X-WR-TIMEZONE:America/New_York
BEGIN:VEVENT
UID:91@thehealthcollab.news
DTSTART;TZID=America/New_York:20250107T180000
DTEND;TZID=America/New_York:20250107T184500
DTSTAMP:20250119T034827Z
URL:https://thehealthcollab.news/events/yanceyville-town-council-2025-01-0
 7/
SUMMARY:Yanceyville Town Council
DESCRIPTION:The Yanceyville Town Council is responsible for setting the pol
 icies that guide Town Administration. The Town Council is responsible for 
 setting the tax rate and water and sewer rates within the Town. Additional
  duties of the Town Council are to bring economic and community developmen
 t to the Town\, determine services provided to citizens\, and ensure the c
 ommunity remains fiscally and socially healthy and prosperous.\n\nThe Yanc
 eyville Town Council meets at 6pm on the 1st Tuesday of every month.\n\n*H
 olidays impact this schedule*\n\nVirtual meeting access can be found HERE.
  Agendas and meeting minutes can be found HERE.\n\nFor more information\, 
 please call Town Hall at 336-694-5431
ATTACH;FMTTYPE=image/jpeg:https://i0.wp.com/thehealthcollab.news/wp-conten
 t/uploads/2025/01/Yanceyville-logo.png?fit=5820%2C900&ssl=1
CATEGORIES:Local Government
LOCATION:Yanceyville Municipal Services Building\, 158 E Church St\, Yancey
 ville\, NC\, 27379\, United States
X-APPLE-STRUCTURED-LOCATION;VALUE=URI;X-ADDRESS=158 E Church St\, Yanceyvil
 le\, NC\, 27379\, United States;X-APPLE-RADIUS=100;X-TITLE=Yanceyville Mun
 icipal Services Building:geo:0,0
END:VEVENT
BEGIN:VTIMEZONE
TZID:America/New_York
X-LIC-LOCATION:America/New_York
BEGIN:STANDARD
DTSTART:20241103T010000
TZOFFSETFROM:-0400
TZOFFSETTO:-0500
TZNAME:EST
END:STANDARD
END:VTIMEZONE
END:VCALENDAR