BEGIN:VCALENDAR
VERSION:2.0
PRODID:-//wp-events-plugin.com//7.2.3.1//EN
TZID:America/New_York
X-WR-TIMEZONE:America/New_York
BEGIN:VEVENT
UID:162@thehealthcollab.news
DTSTART;TZID=America/New_York:20250114T130000
DTEND;TZID=America/New_York:20250114T140000
DTSTAMP:20250122T233501Z
URL:https://thehealthcollab.news/events/free-virginia-legal-aid-workshops-
 2-2025-01-14/
SUMMARY:Free Virginia Legal Aid Workshops
DESCRIPTION:Representatives from Virginia Legal Aid Society will present in
 formation for common legal issues that are pertinent to the community. Pre
 sentations will include general guidelines\, applicable eligibility\, comm
 on concerns\, and helpful tools to assist with the topic. Programs will gi
 ve general legal information only. Representatives cannot answer questions
  about specific situations. Ages 18 and up. Registration is required. Call
  (434) 799-5195.\n\n&nbsp\;\n\nActivity Room               
                      No fee\n\n&nbsp\;\n\nThursdays  
                                      
   5:30 p.m. to 6:30 p.m.\n\nTuesdays                  
                          1 p.m. to 2 p.m.\n\n&nbsp
 \;\n\nThursday\, January 2                        E
 xpungements\n\nTuesday\, January 14                   
     Expungements\n\nThursday\, February 6               
        Wills and Advance Directives\n\nTuesday\, February 11    
                   Wills and Advance Directives\n\nTuesday
 \, March 4                             Child Su
 pport\n\nThursday\, March 6                        
    Child Support\n\nTuesday\, April 3                 
                Custody\n\nThursday\, April 8         
                      Custody
ATTACH;FMTTYPE=image/jpeg:https://i0.wp.com/thehealthcollab.news/wp-conten
 t/uploads/2025/01/VLAS.png?fit=417%2C197&ssl=1
CATEGORIES:Community Event,Learning Opportunity
LOCATION:Ruby B. Archie Library in Danville\, Ruby B. Archie Library in Dan
 ville\, 511 Patton St | Danville\, VA 24541\, Danville\, VA\, 24541\, Unit
 ed States
X-APPLE-STRUCTURED-LOCATION;VALUE=URI;X-ADDRESS=Ruby B. Archie Library in D
 anville\, 511 Patton St | Danville\, VA 24541\, Danville\, VA\, 24541\, Un
 ited States;X-APPLE-RADIUS=100;X-TITLE=Ruby B. Archie Library in Danville:
 geo:0,0
END:VEVENT
BEGIN:VTIMEZONE
TZID:America/New_York
X-LIC-LOCATION:America/New_York
BEGIN:STANDARD
DTSTART:20241103T010000
TZOFFSETFROM:-0400
TZOFFSETTO:-0500
TZNAME:EST
END:STANDARD
END:VTIMEZONE
END:VCALENDAR