BEGIN:VCALENDAR
VERSION:2.0
PRODID:-//wp-events-plugin.com//7.2.3.1//EN
TZID:America/New_York
X-WR-TIMEZONE:America/New_York
BEGIN:VEVENT
UID:118@thehealthcollab.news
DTSTART;TZID=America/New_York:20250121T190000
DTEND;TZID=America/New_York:20250121T203000
DTSTAMP:20250119T034747Z
URL:https://thehealthcollab.news/events/danville-city-council-meeting-2-20
 25-01-21/
SUMMARY:Danville City Council Meeting
DESCRIPTION:Danville City Council meetings
ATTACH;FMTTYPE=image/jpeg:https://i0.wp.com/thehealthcollab.news/wp-conten
 t/uploads/2025/01/Danvile-Va.png?fit=425%2C145&ssl=1
CATEGORIES:Local Government
LOCATION:Danville City Council\, 427 Patton Street - Fourth Floor\, Danvill
 e \, VA\, 24541\, United States
X-APPLE-STRUCTURED-LOCATION;VALUE=URI;X-ADDRESS=427 Patton Street - Fourth 
 Floor\, Danville \, VA\, 24541\, United States;X-APPLE-RADIUS=100;X-TITLE=
 Danville City Council:geo:0,0
END:VEVENT
BEGIN:VTIMEZONE
TZID:America/New_York
X-LIC-LOCATION:America/New_York
BEGIN:STANDARD
DTSTART:20241103T010000
TZOFFSETFROM:-0400
TZOFFSETTO:-0500
TZNAME:EST
END:STANDARD
END:VTIMEZONE
END:VCALENDAR