BEGIN:VCALENDAR
VERSION:2.0
PRODID:-//wp-events-plugin.com//7.2.3.1//EN
TZID:America/New_York
X-WR-TIMEZONE:America/New_York
BEGIN:VEVENT
UID:1@thehealthcollab.news
DTSTART;TZID=America/New_York:20250121T123000
DTEND;TZID=America/New_York:20250121T140000
DTSTAMP:20250118T013320Z
URL:https://thehealthcollab.news/events/caswell-chapter-meeting/
SUMMARY:Caswell Chapter Meeting
DESCRIPTION:Join us for the monthly gathering of the Caswell Chapter of The
  Health Collaborative on Tuesday\, January 21st at 12:30pm at the Yanceyvi
 lle Municipal Building.\n\nWe are excited to celebrate Martin Luther King\
 , Jr. Day and the National Day of Racial Healing with our community partne
 rs.\n\n"The National Day of Racial Healing is a time to contemplate our sh
 ared values and create the blueprint together for #HowWeHeal from the effe
 cts of racism. Launched in 2017\, it is an opportunity to bring ALL people
  together and inspire collective action to build common ground for a more 
 just and equitable world. Fundamental to this day is a clear understanding
  that racial healing is at the core of racial equity. This day is observed
  every year on the Tuesday following Martin Luther King\, Jr. Day." - W.K.
  Kellogg Foundation (https://dayofracialhealing.org/about-ndorh/)\n\nLunch
  will be served so please be sure to RSVP by Friday\, January 17th.\n\n&nb
 sp\;
ATTACH;FMTTYPE=image/jpeg:https://i0.wp.com/thehealthcollab.news/wp-conten
 t/uploads/2025/01/Caswell-County-Chapter.png?fit=1500%2C600&ssl=1
CATEGORIES:The Health Collaborative
LOCATION:Yanceyville Municipal Services Building\, 158 E Church St\, Yancey
 ville\, NC\, 27379\, United States
X-APPLE-STRUCTURED-LOCATION;VALUE=URI;X-ADDRESS=158 E Church St\, Yanceyvil
 le\, NC\, 27379\, United States;X-APPLE-RADIUS=100;X-TITLE=Yanceyville Mun
 icipal Services Building:geo:0,0
END:VEVENT
BEGIN:VTIMEZONE
TZID:America/New_York
X-LIC-LOCATION:America/New_York
BEGIN:STANDARD
DTSTART:20241103T010000
TZOFFSETFROM:-0400
TZOFFSETTO:-0500
TZNAME:EST
END:STANDARD
END:VTIMEZONE
END:VCALENDAR